BEGIN:VCALENDAR
VERSION:2.0
PRODID:-//eventon.com NONSGML v1.0//EN
CALSCALE:GREGORIAN
METHOD:PUBLISH
BEGIN:VEVENT
UID:69eb7c9d005c9
DTSTAMP:20260424T142221Z
DTSTART:20260425T120000Z
DTEND:20260425T120000Z
LOCATION:
SUMMARY:Championnats de Belgique Montagne Membre s/Semois
DESCRIPTION:\nhttps://archathle.eu/index.php/events/championnats-de-belgiqu
 e-montagne-membre-s-semois/
URL:https://archathle.eu/index.php/events/championnats-de-belgique-montagne-membre-s-semois/
END:VEVENT
END:VCALENDAR